BEGIN:VCALENDAR
VERSION:2.0
PRODID:-//Über.Morgen - ECPv5.14.0.1//NONSGML v1.0//EN
CALSCALE:GREGORIAN
METHOD:PUBLISH
X-WR-CALNAME:Über.Morgen
X-ORIGINAL-URL:https://alt.uebermorgen.info
X-WR-CALDESC:Veranstaltungen für Über.Morgen
REFRESH-INTERVAL;VALUE=DURATION:PT1H
X-Robots-Tag:noindex
X-PUBLISHED-TTL:PT1H
BEGIN:VTIMEZONE
TZID:Europe/Berlin
BEGIN:DAYLIGHT
TZOFFSETFROM:+0100
TZOFFSETTO:+0200
TZNAME:CEST
DTSTART:20220327T010000
END:DAYLIGHT
BEGIN:STANDARD
TZOFFSETFROM:+0200
TZOFFSETTO:+0100
TZNAME:CET
DTSTART:20221030T010000
END:STANDARD
END:VTIMEZONE
BEGIN:VEVENT
DTSTART;TZID=Europe/Berlin:20221019T140000
DTEND;TZID=Europe/Berlin:20221019T170000
DTSTAMP:20260424T205310
CREATED:20220204T104442Z
LAST-MODIFIED:20220924T161801Z
UID:1272-1666188000-1666198800@alt.uebermorgen.info
SUMMARY:Von der Theorie in die Praxis -  BNE-Konzepte nun-Zertifizierte und Interessierte - 19.10.2022 Online
DESCRIPTION:Pädagogische Konzepte verknüpfen Ziele\, Rahmenbedingungen und Methoden so miteinander\, dass Lernende bedarfs- und bedürfnisprientiert Wissen und Fähigkeiten aneignen können. BNE-Konzepte nehmen ökologische Belastungsgrenzen ebenso un den Blick wie globale Gerechtigkeit und ganz konkrete Umsetzungsfragen. BNE-Konzepte enthalten aber noch viel mehr Bausteine und verbinden diese miteiander. \nIn unserem Online-Angebot geben wir Impulse und stellen Inhalte zur Verfügung. Was sollte in einem guten BNE.Konzept enthalten sein? Was sollte in keinem nun-Zertifizierten Konzept fehlen? Was ist für die Antragsstellung einer nun-Zertifizierung wichtig? Welche neuen wissenschaftlichen Erkenntnisse sind  für eine Fortschreibung interessant. \nWir ermöglichen den Fachaustausch der Teilnehmenden und im Anschluss können individuelle Reflexionen verabredet werden. \nWir bitten um Anmeldung. \nUnsere Online-Veranstaltungen basieren auf verschiedenen digitalen Tools. Kriterien der Auswahl sind die Einhaltung der DSGVO\, Server in Deutschland\, klimaneutrale oder klimafreundliche Anbietende. \nWir empfehlen PC oder Laptop\, so dass mehrere Browserfenster gleichzeitig geöffnet werden können. Einwahllinks und Hinweise für mögliche Softwareinstallationen werden kurz vor der Veranstaltung versendet. \nKontakt und Info: bildung@uebermorgen.info
URL:https://alt.uebermorgen.info/veranstaltungen/von-der-theorie-in-die-praxis-bne-konzepte-nun-zertifizierte-und-interessierte-26-9-2022-online/
CATEGORIES:nun-Zertifizierung
ATTACH;FMTTYPE=image/jpeg:https://alt.uebermorgen.info/wp-content/uploads/2022/02/nunPaedkonz-scaled.jpg
END:VEVENT
END:VCALENDAR