BEGIN:VCALENDAR
VERSION:2.0
PRODID:-//Über.Morgen - ECPv5.14.0.1//NONSGML v1.0//EN
CALSCALE:GREGORIAN
METHOD:PUBLISH
X-WR-CALNAME:Über.Morgen
X-ORIGINAL-URL:https://alt.uebermorgen.info
X-WR-CALDESC:Veranstaltungen für Über.Morgen
REFRESH-INTERVAL;VALUE=DURATION:PT1H
X-Robots-Tag:noindex
X-PUBLISHED-TTL:PT1H
BEGIN:VTIMEZONE
TZID:Europe/Berlin
BEGIN:DAYLIGHT
TZOFFSETFROM:+0100
TZOFFSETTO:+0200
TZNAME:CEST
DTSTART:20220327T010000
END:DAYLIGHT
BEGIN:STANDARD
TZOFFSETFROM:+0200
TZOFFSETTO:+0100
TZNAME:CET
DTSTART:20221030T010000
END:STANDARD
END:VTIMEZONE
BEGIN:VEVENT
DTSTART;TZID=Europe/Berlin:20220906T140000
DTEND;TZID=Europe/Berlin:20220906T170000
DTSTAMP:20260424T205326
CREATED:20220202T112943Z
LAST-MODIFIED:20220228T144722Z
UID:1275-1662472800-1662483600@alt.uebermorgen.info
SUMMARY:Klare Orientierung durch Leitbilder und Leitungen | 6.9.2022 Online
DESCRIPTION:In Zeiten des Wandels brauchen Bildungseinrichtungen klare Orientierung. Werte\, Leitbilder und gute Leitung können Orientierung geben. \nIn dieser Veranstaltung sprechen wir über gute und notwendige Bestandteile von Leitbildern und die Dynamik zwischen Leitbildern und den damit verbundenen Menschen. \nWir schauen auf den Prozess eine Leitbilderstellung bzw. -Weiterentwicklung und reflektieren dessen Wirkung auf Zielgruppen und Mitarbeitende. \nVorhandene Leitbilder können mitgebracht und zur Diskussion gestellt werden. \nWir bitten um Anmeldung. \nUnsere Online-Veranstaltungen basieren auf verschiedenen digitalen Tools. Kriterien der Auswahl sind die Einhaltung der DSGVO\, Server in Deutschland\, klimaneutrale oder klimafreundliche Anbietende. \nWir empfehlen PC oder Laptop\, so dass mehrere Browserfenster gleichzeitig geöffnet werden können. Einwahllinks und Hinweise für mögliche Softwareinstallationen werden kurz vor der Veranstaltung versendet. \nKontakt und Info: bildung@uebermorgen.info
URL:https://alt.uebermorgen.info/veranstaltungen/klare-orientierung-durch-leitbilder-und-leitungen-6-9-2022-online/
CATEGORIES:nun-Zertifizierung
ATTACH;FMTTYPE=image/jpeg:https://alt.uebermorgen.info/wp-content/uploads/2022/02/nun-leitbild-scaled.jpg
END:VEVENT
BEGIN:VEVENT
DTSTART;TZID=Europe/Berlin:20220907T100000
DTEND;TZID=Europe/Berlin:20220907T160000
DTSTAMP:20260424T205326
CREATED:20220616T154055Z
LAST-MODIFIED:20220904T191108Z
UID:1491-1662544800-1662566400@alt.uebermorgen.info
SUMMARY:Vielfältige\, ökologische Zukunft versus völkisches Überleben - Wichtiges Wissen und Denkanstösse - 7.9.2022 Dreilützow
DESCRIPTION:Im Nachgang zur Session „Nachhaltig leben- Solidarisch oder Völkisch?“ des nun-Barcamps 2021 möchten wir das Thema BNE und demokratiefeindliche Strukturen vertiefen. Darum unterbreiten wir hier gern das folgende Angebot. \nEin Leben im Einklang mit Natur und Umwelt ist die Sehnsucht vieler Menschen. Ökologische Landwirtschaft\, biologischer Handel und ein vermeintlich traditionsbewusster Herkunfts- und Heimatbegriff scheinen attraktive Ziele. Umweltfreundliches und bewusstes Dasein hat aber immer auch eine politische Ausrichtung\, je nach Definition und Verständnis der Begriffe. Der Völkische Heimat- und Umweltschutz ist nicht nur auf Wälder\, Seen\, Berge und Strände vor Ort bezogen\, er betont vor allem den Schutz der ‚Kultur‘ als Grundlage des Handelns. Die ideologischen Wurzeln dieses Denkens reichen bis ins 19. Jhd. zurück. Sie sind dominiert von biologistischen und sozialdarwinistischen Perspektiven und einer direkten Übertragung biologischer Gesetzmäßigkeiten auf die funktionale Gestaltung menschlichen Zusammenlebens. \nIn Mecklenburg-Vorpommern sind völkische Netzwerke vielseitig verknüpft. Das strategische Ziel\, eine möglichst funktionale Parallelwelt zu entwickeln\, schreitet voran. Es werden weiterhin Wege gesucht\, Einfluss auf gesellschaftliche Entwicklungen zu nehmen\, sei es im Gemeinwesen\, bei der Feuerwehr\, in der Bio-Branche\, in Kita und Schule oder im Umweltschutz. Im Seminar werden wesentliche Strukturen der Völkischen Netzwerkarbeit in MV und deren Wirken in unterschiedlichste gesellschaftliche Bereiche betrachtet. Welche thematischen Schnittstellen in der Arbeit für Nachhaltige Entwicklung und dem Wirken Völkischer Akteure gibt es? Haben wir Möglichkeiten des Erkennens und Entgegnens? Welche Kommunikationsstrategien sind für einen angemessenen Umgang geeignet? \nZielgruppe: nun-Zertifizierte\, BNE-Anbietende aus Kitas\, Schulen\, Einrichtungen der Erwachsenenbildung \nZeit und Ort: 07.09.2022\, 10.00-16.00\, Schullandheim Schloss Dreilützow \nDie Veranstaltung ist eine Kooperation der Über.Morgen gGmbH mit dem Regionalzentrum für demokratische Kultur der Evangelischen Akademie der Nordirche und der Arbeitsgemeinschaft Natur und Umweltbildung MV e.V. \nWir bitten um Voranmeldung. Die Anmeldung ist erst nach Zusendung der Anmeldebestätigung gültig. \nFür die gemeinsame Verpflegung erheben wir einen kostendeckenden Beitrag. \n  \n 
URL:https://alt.uebermorgen.info/veranstaltungen/vielfaeltige-oekologische-zukunft-versus-voelkisches-ueberleben-wichtiges-wissen-und-denkanstoesse-7-9-2022-dreiluetzow/
LOCATION:Dreilützow\, Am Schlosspark 10\, Wittendörp\, Mecklenburg-Vorpommern\, 19243
CATEGORIES:nun-Fortbildung
ATTACH;FMTTYPE=image/jpeg:https://alt.uebermorgen.info/wp-content/uploads/2022/06/bnerex-scaled.jpg
END:VEVENT
BEGIN:VEVENT
DTSTART;TZID=Europe/Berlin:20220919T130000
DTEND;TZID=Europe/Berlin:20220919T170000
DTSTAMP:20260424T205326
CREATED:20220829T144107Z
LAST-MODIFIED:20220904T191406Z
UID:1511-1663592400-1663606800@alt.uebermorgen.info
SUMMARY:Segel setzen auf der Road Show - Zukunftsgespräche für MV 19.9.2022 Schependorf
DESCRIPTION:Die RoadShow der Initiative Zukunftshandeln verläuft durch unser Dorf\, macht Halt am Montag\, den 19.9.2022 ab 13 Uhr. \nHier erfahrt ihr mehr über die Empfehlungen des Zukunftsrates\, könnt mitreden und rückmelden\, was ihr davon haltet und vor allem auch\, wie ihr euch die Zukunft in MV vorstellt. \nHier könnt Ihr euch vorinformieren: https://www.zukunftshandeln-mv.de/zukunftsprogramm \nFür uns ist vor allem die Mitgestaltung von Bildung wichtig. Im Rahmen unseres Projektes „Von Fuss bis Kopf“ haben wir ein Planspiel entwickelt. Es heißt Segel setzen und unterstützt spielerisch Leitbildprozesse\, Teambuilding\, Ziel- und Projektmanagement. Ihr nehmt im Spiel die Rolle der Reisenden auf der „Wind of Change“ ein. Ihr befindet euch auf einer Reise mit ungewissem Ausgang. Alles was passiert und wie es sich anfühlt wird von euch abhängen.. wir versetzen euch in Rollen und hoffen\, dass ihr beim Spielen genießen könnt\, dass es nur ein Spiel ist. \nNach Infos zum Zukunftsprogramm erproben wir das Planspiel und sprechen über mögliche Verbesserungen oder Anwendungen. Wir laden hiermit ein\, dabei zu sein. \nOrt: Gutshaus Schependorf\, ein schöner Tanzsaal (bitte ggf. dicke Socken mitbringen). \nProgramm \n13:00 Ankommen und Einschwingen \n13:10 Vorstellung Initiative Zukunftshandeln und Programm | Diskussion | Rückmeldungen | Verabredungen \n14:00 Einführung in das Spiel „Segel setzen“ (Idee\, Rollen\, Aufgaben) \n14:15 Anspielen\, Ausprobieren\, Interagieren \n16:00 Auswertung und Aussteigen \nAusklang mit mitgebrachten und hier produzierten Leckereien. \nDrumherum: \nWir würden uns freuen\, wenn ihr euch anmeldet\, so können wir besser die Rollen und Gruppeneinteilung planen. Wir werden Wasser und Apfelsaft\, Tee und Kaffee sowie eine Kleinigkeit zum Essen aus der Fülle des Herbstes bereit stellen. Gern kann Essbares mitgebracht werden. \n  \n 
URL:https://alt.uebermorgen.info/veranstaltungen/segel-setzen-auf-der-road-show-zukunftsgespraeche-fuer-mv/
LOCATION:Gut Schependorf\, Schependorf 9\, Baumgarten\, Mecklenburg-Vorpommern\, 18246\, Deutschland
CATEGORIES:Zukunft
ATTACH;FMTTYPE=image/png:https://alt.uebermorgen.info/wp-content/uploads/2022/08/boot.png
END:VEVENT
END:VCALENDAR