BEGIN:VCALENDAR
VERSION:2.0
PRODID:-//Über.Morgen - ECPv5.14.0.1//NONSGML v1.0//EN
CALSCALE:GREGORIAN
METHOD:PUBLISH
X-WR-CALNAME:Über.Morgen
X-ORIGINAL-URL:https://alt.uebermorgen.info
X-WR-CALDESC:Veranstaltungen für Über.Morgen
REFRESH-INTERVAL;VALUE=DURATION:PT1H
X-Robots-Tag:noindex
X-PUBLISHED-TTL:PT1H
BEGIN:VTIMEZONE
TZID:Europe/Berlin
BEGIN:DAYLIGHT
TZOFFSETFROM:+0100
TZOFFSETTO:+0200
TZNAME:CEST
DTSTART:20220327T010000
END:DAYLIGHT
BEGIN:STANDARD
TZOFFSETFROM:+0200
TZOFFSETTO:+0100
TZNAME:CET
DTSTART:20221030T010000
END:STANDARD
END:VTIMEZONE
BEGIN:VEVENT
DTSTART;TZID=Europe/Berlin:20221108T090000
DTEND;TZID=Europe/Berlin:20221108T170000
DTSTAMP:20260424T175721
CREATED:20221023T134004Z
LAST-MODIFIED:20221023T140900Z
UID:1533-1667898000-1667926800@alt.uebermorgen.info
SUMMARY:Über.Morgen Gesellschafter-Versammlung 8.11.2022
DESCRIPTION:Schon 2 Jahre sind wir eigenständig als Organisation. Seither haben wir die nun-Geschäftsstelle geleitet und weiter entwickelt\, das Projekt „Von Fuss bis Kopf“ durchgeführt\, zahlreiche eigene Veranstaltungen konzipiert und durchgeführt\, für andere Organisationen gearbeitet\, uns online und offline pädagogisch geschult\, Gedankenflüge in Gremiensitzungen und Teamberatungen erlebt und immer wieder große Lust am Arbeiten und Wirken verspürt. \nUm unsere Tätigkeiten und Ziele zu strukturieren\, treffen wir uns zwei mal jährlich zu einer Klausur\, die gleichzeitig als Gesellschafter-Versammlung fungiert. \nDiese wird am 8.11.2022 von 9 bis 17 Uhr in Schependorf stattfinden. \nTagesordnung: \n\nRückblick: Zahlen zusammenstellen und Erfolge feiern\, Wichtige Eckdaten auf uns wirken lassen\nPotentiale: Erkennen\, was gut war und sich austauschen über das\, was noch mehr geht\nBlick vorwärts: Zukunftsplanung 2023 und Verabredungen\n\nWir laden euch ein\, virtuell oder ganz und gar live dabei zu sein\, zumindest teilweise. Habt Ihr Anmerkungen zu vergangenen Projekten\, Ideen für die Zukunft oder wollt irgendwie ein Stück mit uns gehen? Dann lasst es uns über diese kurze Abfrage wissen. \nFolge diesem Link
URL:https://alt.uebermorgen.info/veranstaltungen/ueber-morgen-gesellschafter-versammlung-8-11-2022/
LOCATION:Schependorf Über.Morgen
ATTACH;FMTTYPE=image/jpeg:https://alt.uebermorgen.info/wp-content/uploads/2022/10/IMG_0858-scaled.jpeg
END:VEVENT
END:VCALENDAR