BEGIN:VCALENDAR
VERSION:2.0
PRODID:-//Über.Morgen - ECPv5.14.0.1//NONSGML v1.0//EN
CALSCALE:GREGORIAN
METHOD:PUBLISH
X-WR-CALNAME:Über.Morgen
X-ORIGINAL-URL:https://alt.uebermorgen.info
X-WR-CALDESC:Veranstaltungen für Über.Morgen
REFRESH-INTERVAL;VALUE=DURATION:PT1H
X-Robots-Tag:noindex
X-PUBLISHED-TTL:PT1H
BEGIN:VTIMEZONE
TZID:Europe/Berlin
BEGIN:DAYLIGHT
TZOFFSETFROM:+0100
TZOFFSETTO:+0200
TZNAME:CEST
DTSTART:20220327T010000
END:DAYLIGHT
BEGIN:STANDARD
TZOFFSETFROM:+0200
TZOFFSETTO:+0100
TZNAME:CET
DTSTART:20221030T010000
END:STANDARD
END:VTIMEZONE
BEGIN:VEVENT
DTSTART;TZID=Europe/Berlin:20221208T083000
DTEND;TZID=Europe/Berlin:20221208T160000
DTSTAMP:20260424T162835
CREATED:20221111T135857Z
LAST-MODIFIED:20221111T145933Z
UID:1556-1670488200-1670515200@alt.uebermorgen.info
SUMMARY:Zwischen Lust und Verantwortung - Schule als Lebensort | BNE-Fachtag
DESCRIPTION:Auf dem diesjährigen BNE-Fachtag geht es mehr denn je um Zukunft. Um wichtige Veränderungen\, um Gestaltungspotentiale und Selbstwirksamkeit. \nDas Treffen den BNE-Verantwortlichen an Schulen aus MV lädt herzlich all jene ein\, die Veränderungen in Schulen konsequenter und mit Blick auf eine gerechte Zukunft unterstützen wollen. \n“Wie können wir Selbstwirksamkeit und Resilienz bei unseren Kindern und Jugendlichen befördern und wie können wir die pädagogische Rolle der Lernbegleitung stärken? Bildung für nachhaltige Entwicklung (BNE) nimmt diese Fragen in den Blick und gibt inhaltliche und methodische Impulse\, um gemeinsam Bewältigungsstrategien zu entwickeln und Lösungen zu gestalten. Der ganzheitliche Schulansatz (Whole School Approach) spielt dabei eine maßgebliche Rolle. Dazu haben wir im Land in den vergangenen drei Jahren (2018 – 2021) ein Modellprojekt mit zehn allgemeinbildenden Schulen durchgeführt\, das durch das Bundesministerium für wirtschaftliche Zusammenarbeit und Entwicklung (BMZ) gefördert und von der Engagement Global gGmbH begleitet wurde. \nDie zehn Schulen gestalteten partizipativ ihren Lern- und Lebensort im Sinne des Whole School Approach und wurden dabei durch regelmäßige Coaching-Gespräche\, Netzwerktreffen und Fortbildungsangebote unterstützt. Schulprogrammarbeit\, Unterrichtsentwicklung\, Kooperationen\, Schaffung einer wirksamen Kinder- und Jugendbeteiligung\, Stärkung von Aktions- und Freiräumen\, nachhaltige Schulverpflegung\, Beschaffung und Schulgestaltung\, Stärkung des zivilgesellschaftlichen Engagements wurden als wichtige Eckpunkte des Modellvorhabens initiiert und umgesetzt. Dazu öffneten sich die Schulen stärker nach innen\nund außen\, um Kooperationen mit außerschulischen Akteurinnen und Akteuren\, BNE-relevanten Lernorten und lokalen Strukturen nutzen zu können.\nAuf dem BNE-Fachtag erhalten Sie Einblick in die Entwicklung dieser Schulen und können Anregungen und Inspiration für die eigene Schulentwicklung gewinnen. Zu acht Schwerpunktthemen werden drei Austauschrunden mit best practice-Bespielen angeboten\, in\ndenen Sie intensiver in die Sie interessierenden Themen eintauchen können.\nWir freuen uns besonders\, Margret Rasfeld (wenn auch nur digital) und Jamila Tressel von „Schule im Aufbruch“ und der FREI DAY- Initiative begrüßen zu dürfen. \nEs gelten die aktuellen Corona–Bestimmungen. Das Tragen einer Mund–Nasen–Bedeckung (medizinische oder FFP2) wird empfohlen.Anmeldung bitte unbedingt hier digital vollziehen. \nReisekosten: Für Lehrkräfte an staatlichen Schulen werden die Reisekosten vom LandMecklenburg–Vorpommern erstattet. \nVerpflegung: Für die Verpflegung wird ein kleiner Unkostenbeitrag erhoben.Anfahrt und Parken: Die Anfahrt über den ÖPNV ist sehr gut möglich. S– und Straßenbahnhalten unmittelbar in Nähe des Moya (Haltestelle Marienehe). Parkplätze sind ausreichendvorhanden. \nInfo und Nachfragen \nDr. Martina Trümper\nTelefon: 0385 588 17166\nE-Mail: m.truemper@iq.bm.mv-regierung.de\nMinisterium für Bildung und Kindertagesförderung Mecklenburg-Vorpommern\nInstitut für Qualitätsentwicklung\nD-19048 Schwerin \n  \n 
URL:https://alt.uebermorgen.info/veranstaltungen/zwischen-lust-und-verantwortung-schule-als-lebensort-bne-fachtag/
LOCATION:Moya Kulturbühne\, An der Jägerbäk 1\, Rostock\, Mecklenburg-Vorpommern\, 18069
CATEGORIES:Zukunft,Zukunftsbildung,Zukunftsschule
ATTACH;FMTTYPE=image/jpeg:https://alt.uebermorgen.info/wp-content/uploads/2022/11/Gruppenbild_Schulen-der-Zukunft_Karnitz_UG-scaled.jpg
END:VEVENT
BEGIN:VEVENT
DTSTART;TZID=Europe/Berlin:20221213T090000
DTEND;TZID=Europe/Berlin:20221213T110000
DTSTAMP:20260424T162835
CREATED:20220201T160625Z
LAST-MODIFIED:20221023T125227Z
UID:1197-1670922000-1670929200@alt.uebermorgen.info
SUMMARY:nun-Beratung für Antragsstellende  13.12.2022 Online
DESCRIPTION:nun-steht für norddeutsch und nachhaltig und ist ein kostenloses Verfahren für die Qualitätsentwicklung von Bildungsanbietenden. Es geht um nachhaltige Zukunft und ganzheitliche Prozesse. Leitbild\, Bildungsprogramm\, Pädagogisches Konzept und vieles mehr setzen sich zu einer komplexen Struktur zusammen. \nWir helfen\, die Übersicht zu behalten und beraten dich und deine Organisation auf dem Weg zur Auszeichnung mit dem nun-Zertifikat. Vereinbare jetzt deinen individuellen Beratungstermin. \nWir bitten um Anmeldung. \nUnsere Online-Veranstaltungen basieren auf verschiedenen digitalen Tools. Kriterien der Auswahl sind die Einhaltung der DSGVO\, Server in Deutschland\, klimaneutrale oder klimafreundliche Anbietende. \nWir empfehlen PC oder Laptop\, so dass mehrere Browserfenster gleichzeitig geöffnet werden können. Einwahllinks und Hinweise für mögliche Softwareinstallationen werden kurz vor der Veranstaltung versendet.
URL:https://alt.uebermorgen.info/veranstaltungen/nun-beratung-fuer-antragsstellende/
CATEGORIES:nun-Zertifizierung
ATTACH;FMTTYPE=image/jpeg:https://alt.uebermorgen.info/wp-content/uploads/2022/02/nun-Info3-scaled.jpg
END:VEVENT
BEGIN:VEVENT
DTSTART;TZID=Europe/Berlin:20221215T100000
DTEND;TZID=Europe/Berlin:20221215T150000
DTSTAMP:20260424T162835
CREATED:20220614T151432Z
LAST-MODIFIED:20221102T124831Z
UID:1486-1671098400-1671116400@alt.uebermorgen.info
SUMMARY:Nichts tun geht nicht - Kinderschutz und BNE  15.12.2022 Greifswald
DESCRIPTION:Im Nachgang zur Session des nun-Barcamps 2021 bieten wir für nun-Zertifizierte und solche\, die es werden wollen eine Fortbildung zum Spezialthema Kinderschutz an. Kinderschutz ist für Veranstaltende mit und ohne Übernachtun\, mit und ohne Hauptamtliche\, mit und ohne Haftung wichtig und sogar Voraussetzung für eine gute Vertrauensbasis. \nIn der Veranstaltung werden die Grundlagen des Kinderschutzes in der Arbeit mit Kindern und Jugendlichen beleuchtet: Kindeswohl\, Gefährdung und Handlungsoptionen werden für die Akteure in der BNE beleuchtet\, diskutiert und anwendbar gemacht. \nTeilnehmende werden eingeladen\, eigene Fälle und Fragen zu thematisieren. \nDie Veranstaltung wird geleitet von Madlen Schönfeld\, Schulsozialarbeiterin an einer Rostocker Grundschule und Ira Leithoff\, Koordination für die Arbeitsbereich Soziale Arbeit. Beide arbeiten seit mehreren Jahren beim Verein Soziale Bildung e.V. in Rostock. \nKooperationspartnerin und Unterstützerin ist die Landeslehrstätte für Naturschutz und nachhaltige Entwicklung. \nOrt: STRAZE Greifswald \nProgramm 10 bis 15 Uhr \nWir bitten um Voranmeldung. bis 10.12.2022\, ggf. gern mit einer kurzen Beschreibung möglicher Fallfragen? \nFür die Verpflegung vor Ort erheben wir einen Unkostenbeitrag von 12 €/Person. \n 
URL:https://alt.uebermorgen.info/veranstaltungen/nichts-tun-geht-nicht-kinderschutz-und-bne-24-8-2022-greifswald/
LOCATION:STRAZE\, Stralsunder Straße 10\, Greifswald\, Mecklenburg-Vorpommern\, 17489
CATEGORIES:nun-Zertifizierung
ATTACH;FMTTYPE=image/jpeg:https://alt.uebermorgen.info/wp-content/uploads/2022/06/bne-kinderschutz-scaled.jpg
END:VEVENT
END:VCALENDAR